BEGIN:VCALENDAR
VERSION:2.0
PRODID:-//Welcome to Dads Married to Doctors (DMD) - ECPv6.6.4.2//NONSGML v1.0//EN
CALSCALE:GREGORIAN
METHOD:PUBLISH
X-ORIGINAL-URL:https://www.dadsmarriedtodoctors.com
X-WR-CALDESC:Events for Welcome to Dads Married to Doctors (DMD)
REFRESH-INTERVAL;VALUE=DURATION:PT1H
X-Robots-Tag:noindex
X-PUBLISHED-TTL:PT1H
BEGIN:VTIMEZONE
TZID:America/New_York
BEGIN:DAYLIGHT
TZOFFSETFROM:-0500
TZOFFSETTO:-0400
TZNAME:EDT
DTSTART:20260308T070000
END:DAYLIGHT
BEGIN:STANDARD
TZOFFSETFROM:-0400
TZOFFSETTO:-0500
TZNAME:EST
DTSTART:20261101T060000
END:STANDARD
END:VTIMEZONE
BEGIN:VEVENT
DTSTART;VALUE=DATE:20260910
DTEND;VALUE=DATE:20260914
DTSTAMP:20260420T203612
CREATED:20250928T060805Z
LAST-MODIFIED:20250928T060805Z
UID:3791-1788998400-1789343999@www.dadsmarriedtodoctors.com
SUMMARY:9th annual DMD Fall Retreat - Chicago
DESCRIPTION:SIGN UP HERE\nJoin us September 10 – 13\, 2026 in Chicago\, Illinois for our 9th Annual Fall Retreat! \nEscape the routine and embark on the ultimate dads’ getaway as we take our annual retreat to Chicago! This is always one of our favorite weekends of the year – a time to recharge\, build new friendships and strengthen old ones\, enjoy some amazing food and get some much needed time away! \nImagine a long weekend in Chicago where incredible food\, iconic experiences\, and brotherhood come together in one unforgettable retreat. By day\, dive into Chicago’s legendary culinary scene with food tours through neighborhoods like Chinatown and Pilsen\, taste world-class deep dish\, and sip your way through local breweries and craft cocktail bars. Explore the city’s iconic sights—take an architectural river cruise\, catch batting practice at Wrigley\, or venture into unique experiences like axe throwing\, comedy shows\, or museum tours. \nBy night\, the energy of Chicago comes alive. Share laughs over steak dinners and live blues\, toast with your brothers at rooftop lounges overlooking the skyline\, or have a cocktail one of the incredible local bars/lounges\, like The Aviary or Three Dots and a Dash. And of course\, there will be plenty of time to simply hang out. \nWe’ll be headquartered in the heart of River North\, Chicago’s vibrant neighborhood known for its world-class dining\, lively nightlife\, and easy access to the city’s top attractions. From our hotel\, you’ll be just steps away from steakhouses\, rooftop lounges\, art galleries\, and the iconic Chicago Riverwalk. \nOn Friday night\, your ticket includes an unforgettable evening at Avec\, where Mediterranean-inspired dishes meet contemporary Chicago flair. Our group dinner will showcase chef-driven plates designed for sharing\, paired with curated wines and cocktails\, creating a warm\, elevated dining experience in one of the city’s most acclaimed restaurants. Your retreat ticket also includes a special retreat gift\, and all the behind-the-scenes insurance\, planning\, and logistics work to make this a fully curated experience – so you can just show up and enjoy. \nFor those who want to keep the night going on Friday\, you can add on a 2-hour\, open bar cocktail party after our Friday group dinner at the city’s famed tiki hideaway\, Three Dots and a Dash—a true Chicago landmark and one of the top cocktail bars in the country. \nOnce you register\, you’ll be invited into our private DMD Retreat Facebook group where you can start connecting with fellow attendees\, coordinate activities\, and make plans to maximize your Chicago weekend. We will provide a link with discounted rooms at our headquarter hotel as soon as it’s available. \nCome hungry. Come ready for adventure. Most of all\, come ready for fellowship. The DMD Chicago Retreat will leave you refreshed\, inspired\, and recharged for the year ahead. \nWe can’t wait to see you in Chicago! \nSIGN UP HERE\nmikelach07@gmail.com
URL:https://www.dadsmarriedtodoctors.com/event/2026fallretreat/
LOCATION:Hyatt Place River North\, 66 W Illinois St\, Chicago\, IL\, 60654\, United States
ATTACH;FMTTYPE=image/png:https://www.dadsmarriedtodoctors.com/wp-content/uploads/2026-DMD-Retreat-Header.png
ORGANIZER;CN="Dads Married to Doctors LLC":MAILTO:dmdlifestyle@gmail.com
END:VEVENT
END:VCALENDAR