BEGIN:VCALENDAR
VERSION:2.0
PRODID:-//Welcome to Dads Married to Doctors (DMD) - ECPv6.6.4.2//NONSGML v1.0//EN
CALSCALE:GREGORIAN
METHOD:PUBLISH
X-WR-CALNAME:Welcome to Dads Married to Doctors (DMD)
X-ORIGINAL-URL:https://www.dadsmarriedtodoctors.com
X-WR-CALDESC:Events for Welcome to Dads Married to Doctors (DMD)
REFRESH-INTERVAL;VALUE=DURATION:PT1H
X-Robots-Tag:noindex
X-PUBLISHED-TTL:PT1H
BEGIN:VTIMEZONE
TZID:America/New_York
BEGIN:DAYLIGHT
TZOFFSETFROM:-0500
TZOFFSETTO:-0400
TZNAME:EDT
DTSTART:20190310T070000
END:DAYLIGHT
BEGIN:STANDARD
TZOFFSETFROM:-0400
TZOFFSETTO:-0500
TZNAME:EST
DTSTART:20191103T060000
END:STANDARD
BEGIN:DAYLIGHT
TZOFFSETFROM:-0500
TZOFFSETTO:-0400
TZNAME:EDT
DTSTART:20200308T070000
END:DAYLIGHT
BEGIN:STANDARD
TZOFFSETFROM:-0400
TZOFFSETTO:-0500
TZNAME:EST
DTSTART:20201101T060000
END:STANDARD
BEGIN:DAYLIGHT
TZOFFSETFROM:-0500
TZOFFSETTO:-0400
TZNAME:EDT
DTSTART:20210314T070000
END:DAYLIGHT
BEGIN:STANDARD
TZOFFSETFROM:-0400
TZOFFSETTO:-0500
TZNAME:EST
DTSTART:20211107T060000
END:STANDARD
BEGIN:DAYLIGHT
TZOFFSETFROM:-0500
TZOFFSETTO:-0400
TZNAME:EDT
DTSTART:20220313T070000
END:DAYLIGHT
BEGIN:STANDARD
TZOFFSETFROM:-0400
TZOFFSETTO:-0500
TZNAME:EST
DTSTART:20221106T060000
END:STANDARD
BEGIN:DAYLIGHT
TZOFFSETFROM:-0500
TZOFFSETTO:-0400
TZNAME:EDT
DTSTART:20230312T070000
END:DAYLIGHT
BEGIN:STANDARD
TZOFFSETFROM:-0400
TZOFFSETTO:-0500
TZNAME:EST
DTSTART:20231105T060000
END:STANDARD
BEGIN:DAYLIGHT
TZOFFSETFROM:-0500
TZOFFSETTO:-0400
TZNAME:EDT
DTSTART:20240310T070000
END:DAYLIGHT
BEGIN:STANDARD
TZOFFSETFROM:-0400
TZOFFSETTO:-0500
TZNAME:EST
DTSTART:20241103T060000
END:STANDARD
BEGIN:DAYLIGHT
TZOFFSETFROM:-0500
TZOFFSETTO:-0400
TZNAME:EDT
DTSTART:20250309T070000
END:DAYLIGHT
BEGIN:STANDARD
TZOFFSETFROM:-0400
TZOFFSETTO:-0500
TZNAME:EST
DTSTART:20251102T060000
END:STANDARD
END:VTIMEZONE
BEGIN:VEVENT
DTSTART;TZID=America/New_York:20250925T170000
DTEND;TZID=America/New_York:20250928T080000
DTSTAMP:20260421T001250
CREATED:20241007T155435Z
LAST-MODIFIED:20241007T161207Z
UID:3775-1758819600-1759046400@www.dadsmarriedtodoctors.com
SUMMARY:8th annual DMD Fall Retreat - Las Vegas
DESCRIPTION:SIGN UP HERE\nJoin us September 25 – 28\, 2025 in Las Vegas\, Nevada for our 8th Annual Fall Retreat! \nEscape the routine and embark on the ultimate dads’ getaway as we take our annual retreat back to where it all began! This is always one of our favorite weekends of the year – a time to recharge\, build new friendships and strengthen old ones\, enjoy some great food and get some much needed time away! \nImagine a weekend in Las Vegas where relaxation\, excitement\, and camaraderie come together in perfect harmony. Join fellow dads from all over North America\, ready to unwind and enjoy a weekend tailored to your interests. By day\, you might indulge in epicurean adventures like whiskey tastings and food tours\, visit a desert shoot range and drive ATVs or exotic cars\, or partake in our traditional poker tournament. By night\, you’re hitting the town for world-class shows\, casino tables\, iconic Vegas clubs or local activities like escape rooms. Pending schedules\, you might even be able to catch the Raiders at Allegiant Stadium or the Golden Knights at the T-Mobile Arena. \nThere will also be plenty of hang out time in between adventures. Whether you’re bonding over craft beer flights or sharing stories at the cigar lounge\, this retreat will leave you refreshed\, inspired\, and recharged for life back home. \nYour ticket includes three nights at Treasure Island Hotel and Casino\, our headquarter hotel for the weekend. We also have rooms available Wednesday evening for those who would like to extend a night. The ticket fee covers your hotel for Thursday\, Friday and Saturday nights (including tax and resort fee\, a gourmet group dinner on Friday at 6pm\, the planning work\, insurance\, and a custom retreat shirt or other gift. \nOnce you sign up\, you’ll have the opportunity to join our attendee Facebook group to make plans for activities\, meals\, and get to know each other before the trip. We will help to recommend and organize group activities. \nWe can’t wait to see you in Vegas! \nSIGN UP HERE\nmikelach07@gmail.com
URL:https://www.dadsmarriedtodoctors.com/event/8th-annual-dmd-fall-retreat-las-vegas/
LOCATION:Treasure Island Resort Las Vegas\, 3300 Las Vegas Blvd S\, Las Vegas\, NV\, 89109\, United States
ATTACH;FMTTYPE=image/png:https://www.dadsmarriedtodoctors.com/wp-content/uploads/2.png
ORGANIZER;CN="Dads Married to Doctors LLC":MAILTO:dmdlifestyle@gmail.com
END:VEVENT
BEGIN:VEVENT
DTSTART;TZID=America/New_York:20250516T170000
DTEND;TZID=America/New_York:20250518T080000
DTSTAMP:20260421T001250
CREATED:20241025T195627Z
LAST-MODIFIED:20241025T225027Z
UID:3782-1747414800-1747555200@www.dadsmarriedtodoctors.com
SUMMARY:Inaugural DMD Spring Retreat - New Orleans
DESCRIPTION:SIGN UP HERE\nJoin us May 16 – 18\, 2025 (with an optional additional night on Thursday!) in New Orleans\, Louisiana\nfor our inaugural Spring DMD Retreat! \nEscape the routine and embark on the ultimate dads’ getaway as we take over the Big Easy! This is a time to recharge\, build new friendships and strengthen old ones\, enjoy some great food and get some much needed time away! \nImagine a weekend sipping crafted cocktails while listening live jazz\, taking food and history tours around the city\, taking a swamp tour to scope out NOLA’s unique wildlife\, and sampling the nation’s best pralines and more set against the enchanting backdrop of the French Quarter. You’ll have the perfect mix of exciting activities and downtime tailing for both fun and rejuvenation while enjoying the chance to mingle with other dads who\, like you\, balance family life with the unique dynamics of being married to a doctor. \nYour ticket includes two nights at Hotel Indigo New Orleans\, our headquarter hotel for the weekend. We also have rooms available Wednesday and Thursday evening for those who would like to extend a night. The standard ticket fee covers your hotel for Friday and Saturday nights (including tax)\, a gourmet group dinner on Friday at 6pm\, the planning work\, insurance\, and a custom retreat shirt or other gift. \nOnce you sign up\, you’ll have the opportunity to join our attendee Facebook group to make plans for activities\, meals\, and get to know each other before the trip. We will help to recommend and organize group activities. \nThis retreat offers an invaluable chance to connect with other men who understand the joys and challenges unique to the DMD lifestyle. With every conversation and shared laugh\, you’ll walk away with new friends\, renewed energy\, and practical insights you can bring back to your family. The DMD Spring Retreat in New Orleans is more than a getaway—it’s a memorable celebration of the role you play at home and the journey you share with your fellow DMD brothers. \nWe can’t wait to see you in New Orleans! \nSIGN UP HERE\nmikelach07@gmail.com
URL:https://www.dadsmarriedtodoctors.com/event/inaugural-dmd-spring-retreat-new-orleans/
LOCATION:Hotel Indigo New Orleans\, 705 Common St\, New Orleasn\, AL\, 70130\, United States
ATTACH;FMTTYPE=image/png:https://www.dadsmarriedtodoctors.com/wp-content/uploads/Screenshot-2024-10-25-at-12.14.27 PM.png
ORGANIZER;CN="Dads Married to Doctors LLC":MAILTO:dmdlifestyle@gmail.com
END:VEVENT
BEGIN:VEVENT
DTSTART;VALUE=DATE:20240229
DTEND;VALUE=DATE:20240304
DTSTAMP:20260421T001250
CREATED:20231023T200717Z
LAST-MODIFIED:20231025T233804Z
UID:3741-1709164800-1709510399@www.dadsmarriedtodoctors.com
SUMMARY:2024 DMD Couples Retreat
DESCRIPTION:Join other physician family couples for an all-inclusive Luxury weekend of sun\, fun\, and rejuvenation from February 29 – March 3\, 2024! \nTo register for this event please go to the registration website – https://dmd.regfox.com/2024-physician-couples-retreat \n \nmikelach07@gmail.com
URL:https://www.dadsmarriedtodoctors.com/event/2024-dmd-couples-retreat/
LOCATION:IL
ATTACH;FMTTYPE=image/jpeg:https://www.dadsmarriedtodoctors.com/wp-content/uploads/couples-retreat.jpg
END:VEVENT
BEGIN:VEVENT
DTSTART;VALUE=DATE:20230914
DTEND;VALUE=DATE:20230918
DTSTAMP:20260421T001250
CREATED:20230914T181330Z
LAST-MODIFIED:20231024T210520Z
UID:3731-1694649600-1694995199@www.dadsmarriedtodoctors.com
SUMMARY:6th Annual DMD Retreat
DESCRIPTION:You’ve built some great friendships online in the DMD group; now it’s time to take them offline! Come hang out with 40 other Dads Married to Doctors as we head to Music City\, Nashville\, TN for our 6th Annual Fall Retreat! \nmikelach07@gmail.com
URL:https://www.dadsmarriedtodoctors.com/event/6th-annual-dmd-retreat/
LOCATION:IL
ATTACH;FMTTYPE=image/jpeg:https://www.dadsmarriedtodoctors.com/wp-content/uploads/Group-Photo-2.jpg
END:VEVENT
BEGIN:VEVENT
DTSTART;VALUE=DATE:20220929
DTEND;VALUE=DATE:20221003
DTSTAMP:20260421T001250
CREATED:20191019T045200Z
LAST-MODIFIED:20231024T210703Z
UID:2205-1664409600-1664755199@www.dadsmarriedtodoctors.com
SUMMARY:5th Annual DMD Fall Retreat
DESCRIPTION:You’ve built some great friendships online in the DMD group; now it’s time to take them offline! Come hang out with 40 other Dads Married to Doctors as we head to Las Vegas for our 5th Annual Fall Retreat! \nmikelach07@gmail.com
URL:https://www.dadsmarriedtodoctors.com/event/5th-annual-dmd-fall-retreat/
LOCATION:IL
ATTACH;FMTTYPE=image/jpeg:https://www.dadsmarriedtodoctors.com/wp-content/uploads/Group-Photo-2.jpg
END:VEVENT
BEGIN:VEVENT
DTSTART;TZID=America/New_York:20200709T100000
DTEND;TZID=America/New_York:20200709T170000
DTSTAMP:20260421T001250
CREATED:20200617T212943Z
LAST-MODIFIED:20231024T210346Z
UID:2276-1594288800-1594314000@www.dadsmarriedtodoctors.com
SUMMARY:The Better Together Project: Virtual Edition
DESCRIPTION:Who thinks it’s about time our community had an event that was planned exclusively for us? We certainly do\, and since we couldn’t find one\, we created one! \nWe are so excited to announce The Better Together Project\, an ALL-DAY* virtual event dedicated to the spouses and partners of Medical Students\, Residents and Staff Physicians. We have curated a line up of extraordinary speakers from across Canada and the USA who are excited to share their experiences and expertise with you! \nThe outstanding line up of speakers is posted below.  (Our very own Curtis Webster Jr. is one of the speakers!) \nIt’s going to be an amazing day! Our hope is that attending The Better Together Project will leave you feeling inspired\, empowered\, supported and more connected to your community of physician spouses and partners. \nA (virtual) Happy Hour will commence immediately following the end of the event. Say what?! Yup\, that’s right\, you will have the opportunity to meet and connect in real time with other amazing individuals from within our community. You will also have a chance to interact with and ask questions to our speakers. We may even have a surprise or two waiting for you… \nBe a good friend and be sure to share news of this EXCITING event with any other physician spouses you may know…here at The Flipside Life\, we believe in inclusivity\, so for this event\, your non-physician spouse friends are welcome to join in the fun too! \nSo what are you waiting for?! Get your ticket today!‍ \nTicket Price: $99 (Canadian Dollars) – Use this link to save $10 and help make a contribution to DMD Gives Back \nA one time use access link to the event will be emailed to the account you purchase your ticke with 24 hours prior to the start of the event\, so be sure to check your junk mail. \nIf you have any questions\, please email hayley@theflipsidelife.com or kendra@itgetsbetternow.com. \nWe are so excited to connect with you on July 9\, 2020 at The Better Together Project! \nWarmly\, \nThe Flipside Life \n*PS Don’t worry\, The Better Together Project will be recorded in case life gets in the way and you can’t attend all day. \n \nmikelach07@gmail.com
URL:https://www.dadsmarriedtodoctors.com/event/the-better-together-project-virtual-edition/
LOCATION:IL
END:VEVENT
BEGIN:VEVENT
DTSTART;TZID=America/New_York:20200619T120000
DTEND;TZID=America/New_York:20200621T210000
DTSTAMP:20260421T001250
CREATED:20200617T211742Z
LAST-MODIFIED:20231024T210620Z
UID:2274-1592568000-1592773200@www.dadsmarriedtodoctors.com
SUMMARY:Father's Day Weekend Scavenger Hunt
DESCRIPTION:Partner up with your kids this Father’s Day weekend and compete against other DMDs in a family fun scavenger hunt! It’s an opportunity to get out with your family and do some creative activities! \nDownload the FREE Goose Chase app and participate in this FREE game for the ultimate dad bragging rights! \nOnce you download the app\, here’s the info you’ll need. \nGame Name: DMD Fathers Day GooseChase\, 2020\nPassword: DMD2020 \nWHEN: Friday\, June 19th 11am ET- Sunday\, June 21st 8pm ET \nThank you to our DMD brothers that are sponsoring this event and have helped to make it happen. \nChris Murdock of IQTalent Partners\nTimothy Kyle Goedeke of Duo Pain Relief\nGooseChase gave us a huge discount so everyone can play! \nMORE INFO: \n\n \n  \nmikelach07@gmail.com
URL:https://www.dadsmarriedtodoctors.com/event/fathers-day-weekend-scavenger-hunt/
LOCATION:IL
ATTACH;FMTTYPE=image/png:https://www.dadsmarriedtodoctors.com/wp-content/uploads/DMD-Fathers-Day-GooseChase-2020.png
END:VEVENT
BEGIN:VEVENT
DTSTART;VALUE=DATE:20200227
DTEND;VALUE=DATE:20200302
DTSTAMP:20260421T001250
CREATED:20190226T165818Z
LAST-MODIFIED:20231024T210744Z
UID:233-1582761600-1583107199@www.dadsmarriedtodoctors.com
SUMMARY:2nd Annual DMD Couples Retreat
DESCRIPTION:Join other physician family couples for an all-inclusive Luxury weekend of sun\, fun\, and rejuvenation at the brand new Planet Hollywood Costa Rica from February 27 – March 2\, 2020! Register now and secure your spot to be one of the 20 couples at this amazing retreat. \nRegister Today! \nLet’s face it. As a physician family\, our main priorities are usually focused around two things: our children and our spouse’s career. This is all well and good\, but it’s crucial that we also take time with our spouses sans kids to connect and focus on each other. This need is the reason behind the 2nd Annual DMD Couples Retreat! \nVacation Like a Star at the new all-inclusive Planet Hollywood Beach Resort Costa Rica. Get close to authentic Hollywood memorabilia and enjoy themed experiences in this natural and breathtaking beachfront setting on the famed Pacific coast of Papagayo\, Costa Rica. Choose from a variety of all-inclusive dining venues and bars or indulge in extra services at the PH Spa & Beauty Bar. Learn more about this awesome resort HERE. \nRegister Today! \n \nmikelach07@gmail.com
URL:https://www.dadsmarriedtodoctors.com/event/2nd-annual-dmd-couples-retreat/
LOCATION:IL
END:VEVENT
BEGIN:VEVENT
DTSTART;VALUE=DATE:20191018
DTEND;VALUE=DATE:20191021
DTSTAMP:20260421T001250
CREATED:20190226T162237Z
LAST-MODIFIED:20231024T210826Z
UID:229-1571356800-1571615999@www.dadsmarriedtodoctors.com
SUMMARY:4th Annual DMD Fall Retreat
DESCRIPTION:You’ve built some great friendships online in the DMD group; now it’s time to take them offline! Come hang out with 40+ other Dads Married to Doctors as we return to Las Vegas for our 4th Annual Fall Retreat. \nmikelach07@gmail.com
URL:https://www.dadsmarriedtodoctors.com/event/4th-annual-dmd-fall-retreat/
LOCATION:IL
ATTACH;FMTTYPE=image/jpeg:https://www.dadsmarriedtodoctors.com/wp-content/uploads/Group-Photo-2.jpg
END:VEVENT
BEGIN:VEVENT
DTSTART;VALUE=DATE:20190223
DTEND;VALUE=DATE:20190304
DTSTAMP:20260421T001250
CREATED:20190226T161436Z
LAST-MODIFIED:20231024T210456Z
UID:227-1550880000-1551657599@www.dadsmarriedtodoctors.com
SUMMARY:1st Annual DMD Couples Retreat
DESCRIPTION:Join nine other DMD couples for an all-inclusive weekend of sun\, fun\, and rejuvenation at the fabulous Royalton Saint Lucia from February 28 – March 3\, 2019! Registration is now open at https://dmd.regfox.com/1st-annual-dmd-couples-retreat. \nLet’s face it. As a DMD family\, our main priorities are usually focused around two things: our children and our spouse’s career. This is all well and good\, but it’s crucial that we also take time with our spouses sans kids to connect and focus on each other. This need is the reason behind the 1st Annual DMD Couples Retreat! \nThe retreat will be hosted at the gorgeous Royalton Saint Lucia. Nestled in the lush landscapes of one of the most picturesque islands in the Caribbean\, Royalton Saint Lucia welcomes each guest on a vacation in upscale style and comfort. Modern facilities\, warm staff and exhilarating locale rich with both culture and world-class cuisine are the backdrop for an unforgettable All-In Luxury® escape. \n \nmikelach07@gmail.com
URL:https://www.dadsmarriedtodoctors.com/event/1st-annual-dmd-couples-retreat/
LOCATION:IL
END:VEVENT
END:VCALENDAR